BEGIN:VCALENDAR
VERSION:2.0
PRODID:-//RIE KOYAMA BASSOON - ECPv4.0.4//NONSGML v1.0//EN
CALSCALE:GREGORIAN
METHOD:PUBLISH
X-WR-CALNAME:RIE KOYAMA BASSOON
X-ORIGINAL-URL:http://www.rie-koyama.com
X-WR-CALDESC:Events for RIE KOYAMA BASSOON
BEGIN:VEVENT
DTSTART;TZID="Europe/Berlin":20191210T200000
DTEND;TZID="Europe/Berlin":20191210T220000
DTSTAMP:20260425T173326
CREATED:20190918T084803
LAST-MODIFIED:20190918T084803
UID:783-1576008000-1576015200@www.rie-koyama.com
SUMMARY:Bremen / Germany
DESCRIPTION:Brahms: Piano Concerto No 1\, Op. 15\nSchumann: Symphony No 4\, Op. 120\n\n \n\nThe Deutsche Kammerphilharmonie Bremen\nPaavo Järvi\, Conductor\nIgor Levit\, Piano
URL:http://www.rie-koyama.com/event/bremen-germany-3/
LOCATION:Domsheide 4\, Bremen\, 28195\, Germany
END:VEVENT
END:VCALENDAR