BEGIN:VCALENDAR
VERSION:2.0
PRODID:-//RIE KOYAMA BASSOON - ECPv4.0.4//NONSGML v1.0//EN
CALSCALE:GREGORIAN
METHOD:PUBLISH
X-WR-CALNAME:RIE KOYAMA BASSOON
X-ORIGINAL-URL:http://www.rie-koyama.com
X-WR-CALDESC:Events for RIE KOYAMA BASSOON
BEGIN:VEVENT
DTSTART;TZID="Europe/Berlin":20200201T200000
DTEND;TZID="Europe/Berlin":20200201T220000
DTSTAMP:20260424T173322
CREATED:20190918T093957
LAST-MODIFIED:20190918T093957
UID:794-1580587200-1580594400@www.rie-koyama.com
SUMMARY:Trossingen / Germany
DESCRIPTION:Mozart: Divertimento KV 138\nWeber: Andante e Rondo Ungarese for Bassoon and Orchestra\nFrancaix: Divertissement for Bassoon and Strings\nP.-A. Genin: Carnaval de Venise Op. 14\nBartok: Divertimento for String Orchestra Sz 113\n\n \n\nBayerisches Kammerorchester Bad Brückenau\nSebastian Tewinkel\, Conductor\nRie Koyama\, Bassoon
URL:http://www.rie-koyama.com/event/trossingen-germany/
LOCATION:Hangenstraße 50\, Trossingen\, 78647\, Germany
END:VEVENT
END:VCALENDAR